BEGIN:VCALENDAR
VERSION:2.0
PRODID:SchoolNow
CALSCALE:GREGORIAN
BEGIN:VEVENT
UID:3bdff824-b458-11f0-92d4-0afffcf054ab
DTSTAMP:20260422T041513Z
SUMMARY:Regular School Day
URL;VALUE=URI:https://www.centrallinn.k12.or.us/calendar/8758085/regular-sc
 hool-day
DTSTART;VALUE=DATE:20260220
DTEND;VALUE=DATE:20260221
END:VEVENT
END:VCALENDAR
