BEGIN:VCALENDAR
VERSION:2.0
PRODID:SchoolNow
CALSCALE:GREGORIAN
BEGIN:VEVENT
UID:3bdffae0-b458-11f0-b583-0afffcf054ab
DTSTAMP:20260420T094008Z
SUMMARY:Parent Teacher Conferences
URL;VALUE=URI:https://www.centrallinn.k12.or.us/calendar/8758088/parent-tea
 cher-conferences
DTSTART;VALUE=DATE:20260410
DTEND;VALUE=DATE:20260411
END:VEVENT
END:VCALENDAR
