BEGIN:VCALENDAR
VERSION:2.0
PRODID:SchoolNow
CALSCALE:GREGORIAN
BEGIN:VEVENT
UID:3bdffca2-b458-11f0-954d-0afffcf054ab
DTSTAMP:20260420T033506Z
SUMMARY:No School
URL;VALUE=URI:https://www.centrallinn.k12.or.us/calendar/8758090/no-school
DTSTART;VALUE=DATE:20260525
DTEND;VALUE=DATE:20260526
END:VEVENT
END:VCALENDAR
