BEGIN:VCALENDAR
VERSION:2.0
PRODID:SchoolNow
CALSCALE:GREGORIAN
BEGIN:VEVENT
UID:e21ca6c4-3a9f-11f1-bb27-02078ce7e971
DTSTAMP:20260420T094008Z
SUMMARY:Board Work Session
URL;VALUE=URI:https://www.centrallinn.k12.or.us/calendar/9001552/board-work
 -session
DTSTART:20260228T163000Z
DTEND:20260228T213000Z
END:VEVENT
END:VCALENDAR
