BEGIN:VCALENDAR
VERSION:2.0
PRODID:SchoolNow
CALSCALE:GREGORIAN
BEGIN:VEVENT
UID:e21caf5c-3a9f-11f1-b5b6-02078ce7e971
DTSTAMP:20260420T094008Z
SUMMARY:Facilities Committee Meeting
LOCATION:CLHS Library
URL;VALUE=URI:https://www.centrallinn.k12.or.us/calendar/9001557/facilities
 -committee-meeting
DTSTART:20260208T020000Z
DTEND:20260208T150000Z
END:VEVENT
END:VCALENDAR
