BEGIN:VCALENDAR
VERSION:2.0
PRODID:SchoolNow
CALSCALE:GREGORIAN
BEGIN:VEVENT
UID:e21cb13c-3a9f-11f1-afe9-02078ce7e971
DTSTAMP:20260420T094008Z
SUMMARY:Facilities Committee Mtg
LOCATION:CLHS Library/Zoom
URL;VALUE=URI:https://www.centrallinn.k12.or.us/calendar/9001558/facilities
 -committee-mtg
DTSTART:20260405T010000Z
DTEND:20260405T023000Z
END:VEVENT
END:VCALENDAR
