BEGIN:VCALENDAR
VERSION:2.0
PRODID:SchoolNow
CALSCALE:GREGORIAN
BEGIN:VEVENT
UID:e21cb22c-3a9f-11f1-9a7c-02078ce7e971
DTSTAMP:20260420T094008Z
SUMMARY:HS Baseball @ CLHS
URL;VALUE=URI:https://www.centrallinn.k12.or.us/calendar/9001559/hs-basebal
 l-clhs
DTSTART:20260414T233000Z
DTEND:20260415T013000Z
END:VEVENT
END:VCALENDAR
