BEGIN:VCALENDAR
VERSION:2.0
PRODID:SchoolNow
CALSCALE:GREGORIAN
BEGIN:VEVENT
UID:e5587074-3d02-11f1-bb21-02ca657365b3
DTSTAMP:20260423T104007Z
SUMMARY:1st Budget Committee Meeting
LOCATION:CLE Conference Room/Zoom
URL;VALUE=URI:https://www.centrallinn.k12.or.us/calendar/9008056/1st-budget
 -committee-meeting
DTSTART:20260428T013000Z
DTEND:20260428T033000Z
END:VEVENT
END:VCALENDAR
