BEGIN:VCALENDAR
VERSION:2.0
PRODID:SchoolNow
CALSCALE:GREGORIAN
BEGIN:VEVENT
UID:ffa62030-c49d-11f0-882f-0a58a9feac02
DTSTAMP:20260425T173009Z
SUMMARY:HS Wrestling @ Toledo
URL;VALUE=URI:https://www.centrallinn.k12.or.us/high-school/calendar/880176
 1/hs-wrestling-toledo
DTSTART;VALUE=DATE:20260205
DTEND;VALUE=DATE:20260206
END:VEVENT
END:VCALENDAR
