BEGIN:VCALENDAR
VERSION:2.0
PRODID:SchoolNow
CALSCALE:GREGORIAN
BEGIN:VEVENT
UID:ffa62954-c49d-11f0-8bd2-0a58a9feac02
DTSTAMP:20260425T173009Z
SUMMARY:HS Wrestling @ CLHS
URL;VALUE=URI:https://www.centrallinn.k12.or.us/high-school/calendar/880176
 8/hs-wrestling-clhs
DTSTART;VALUE=DATE:20260203
DTEND;VALUE=DATE:20260204
END:VEVENT
END:VCALENDAR
