BEGIN:VCALENDAR
VERSION:2.0
PRODID:SchoolNow
CALSCALE:GREGORIAN
BEGIN:VEVENT
UID:ffa62cb0-c49d-11f0-b6d8-0a58a9feac02
DTSTAMP:20260425T112509Z
SUMMARY:HS Wrestling Tournament @CLHS
URL;VALUE=URI:https://www.centrallinn.k12.or.us/high-school/calendar/880177
 1/hs-wrestling-tournament-clhs
DTSTART;VALUE=DATE:20260102
DTEND;VALUE=DATE:20260103
END:VEVENT
END:VCALENDAR
