BEGIN:VCALENDAR
VERSION:2.0
PRODID:SchoolNow
CALSCALE:GREGORIAN
BEGIN:VEVENT
UID:ffa63430-c49d-11f0-aee2-0a58a9feac02
DTSTAMP:20260422T042008Z
SUMMARY:HS Girls Wrestling Districts @Cottage Grove
URL;VALUE=URI:https://www.centrallinn.k12.or.us/high-school/calendar/880177
 6/hs-girls-wrestling-districts-cottage-grove
DTSTART;VALUE=DATE:20260220
DTEND;VALUE=DATE:20260221
END:VEVENT
END:VCALENDAR
