BEGIN:VCALENDAR
VERSION:2.0
PRODID:SchoolNow
CALSCALE:GREGORIAN
BEGIN:VEVENT
UID:ffd38e12-c49d-11f0-8fad-0a58a9feac02
DTSTAMP:20260425T112509Z
SUMMARY:JH Wrestling @ CLES
URL;VALUE=URI:https://www.centrallinn.k12.or.us/high-school/calendar/880178
 8/jh-wrestling-cles
DTSTART:20260121T020000Z
DTEND:20260121T040000Z
END:VEVENT
END:VCALENDAR
