BEGIN:VCALENDAR
VERSION:2.0
PRODID:SchoolNow
CALSCALE:GREGORIAN
BEGIN:VEVENT
UID:f9e05110-c4d0-11f0-8422-0afff8f604d5
DTSTAMP:20260425T112508Z
SUMMARY:HS Basketball vs Waldport
URL;VALUE=URI:https://www.centrallinn.k12.or.us/high-school/calendar/880259
 5/hs-basketball-vs-waldport
DTSTART:20260123T230000Z
DTEND:20260124T050000Z
END:VEVENT
END:VCALENDAR
