BEGIN:VCALENDAR
VERSION:2.0
PRODID:SchoolNow
CALSCALE:GREGORIAN
BEGIN:VEVENT
UID:f9e05f0c-c4d0-11f0-b4cb-0afff8f604d5
DTSTAMP:20260420T094509Z
SUMMARY:HS Basketball @ Toledo
URL;VALUE=URI:https://www.centrallinn.k12.or.us/high-school/calendar/880259
 8/hs-basketball-toledo
DTSTART:20260213T230000Z
DTEND:20260214T050000Z
END:VEVENT
END:VCALENDAR
