BEGIN:VCALENDAR
VERSION:2.0
PRODID:SchoolNow
CALSCALE:GREGORIAN
BEGIN:VEVENT
UID:f9e069f2-c4d0-11f0-8ff7-0afff8f604d5
DTSTAMP:20260425T112509Z
SUMMARY:HS Basketball @ Monroe
URL;VALUE=URI:https://www.centrallinn.k12.or.us/high-school/calendar/880260
 0/hs-basketball-monroe
DTSTART:20260129T230000Z
DTEND:20260130T050000Z
END:VEVENT
END:VCALENDAR
