BEGIN:VCALENDAR
VERSION:2.0
PRODID:SchoolNow
CALSCALE:GREGORIAN
BEGIN:VEVENT
UID:fa32fca8-c4d0-11f0-8a10-0afff8f604d5
DTSTAMP:20260425T173009Z
SUMMARY:HS Basketball @ Crosshill
URL;VALUE=URI:https://www.centrallinn.k12.or.us/high-school/calendar/880260
 3/hs-basketball-crosshill
DTSTART:20260203T230000Z
DTEND:20260204T050000Z
END:VEVENT
END:VCALENDAR
