BEGIN:VCALENDAR
VERSION:2.0
PRODID:SchoolNow
CALSCALE:GREGORIAN
BEGIN:VEVENT
UID:e609a156-3a9f-11f1-a8c7-02078ce7e971
DTSTAMP:20260425T173009Z
SUMMARY:HS Track Districts @ Regis HS
LOCATION:Regis High School\, 550 W Regis St\, Stayton\, OR 97383\, USA
URL;VALUE=URI:https://www.centrallinn.k12.or.us/high-school/calendar/900156
 1/hs-track-districts-regis-hs
DTSTART;VALUE=DATE:20260521
DTEND;VALUE=DATE:20260523
END:VEVENT
END:VCALENDAR
