BEGIN:VCALENDAR
VERSION:2.0
PRODID:SchoolNow
CALSCALE:GREGORIAN
BEGIN:VEVENT
UID:e609a4a8-3a9f-11f1-b229-02078ce7e971
DTSTAMP:20260425T173009Z
SUMMARY:JH Wrestling Awards
URL;VALUE=URI:https://www.centrallinn.k12.or.us/high-school/calendar/900156
 2/jh-wrestling-awards
DTSTART:20260320T010000Z
DTEND:20260320T020000Z
END:VEVENT
END:VCALENDAR
