BEGIN:VCALENDAR
VERSION:2.0
PRODID:SchoolNow
CALSCALE:GREGORIAN
BEGIN:VEVENT
UID:e609a61a-3a9f-11f1-ac3d-02078ce7e971
DTSTAMP:20260420T094508Z
SUMMARY:JH Softball @ St. Mary's Catholic
LOCATION:St. Mary Catholic School\, 1066 N 6th Ave\, Stayton\, OR 97383\, U
 SA
URL;VALUE=URI:https://www.centrallinn.k12.or.us/high-school/calendar/900156
 3/jh-softball-st-marys-catholic
DTSTART:20260408T230000Z
DTEND:20260409T010000Z
END:VEVENT
END:VCALENDAR
