BEGIN:VCALENDAR
VERSION:2.0
PRODID:SchoolNow
CALSCALE:GREGORIAN
BEGIN:VEVENT
UID:e609a746-3a9f-11f1-b36a-02078ce7e971
DTSTAMP:20260425T173009Z
SUMMARY:HS Baseball (DH) @ Crosshill Christian
LOCATION:Crosshill Christian School\, 2707 Maranatha Ct SE\, Turner\, OR 97
 392\, USA
URL;VALUE=URI:https://www.centrallinn.k12.or.us/high-school/calendar/900156
 4/hs-baseball-dh-crosshill-christian
DTSTART:20260508T210000Z
DTEND:20260509T013000Z
END:VEVENT
END:VCALENDAR
