BEGIN:VCALENDAR
VERSION:2.0
PRODID:SchoolNow
CALSCALE:GREGORIAN
BEGIN:VEVENT
UID:e609aa5c-3a9f-11f1-a801-02078ce7e971
DTSTAMP:20260425T173009Z
SUMMARY:HS Baseball @ Jesuit HS
LOCATION:Jesuit High School\, 9000 SW Beaverton Hillsdale Hwy\, Portland\, 
 OR 97225\, USA
URL;VALUE=URI:https://www.centrallinn.k12.or.us/high-school/calendar/900156
 7/hs-baseball-jesuit-hs
DTSTART:20260320T233000Z
DTEND:20260321T133000Z
END:VEVENT
END:VCALENDAR
