BEGIN:VCALENDAR
VERSION:2.0
PRODID:SchoolNow
CALSCALE:GREGORIAN
BEGIN:VEVENT
UID:e609ab4c-3a9f-11f1-b777-02078ce7e971
DTSTAMP:20260425T112508Z
SUMMARY:JH Boys Basketball @ Eugene Christian
URL;VALUE=URI:https://www.centrallinn.k12.or.us/high-school/calendar/900156
 8/jh-boys-basketball-eugene-christian
DTSTART:20260127T000000Z
DTEND:20260127T030000Z
END:VEVENT
END:VCALENDAR
