BEGIN:VCALENDAR
VERSION:2.0
PRODID:SchoolNow
CALSCALE:GREGORIAN
BEGIN:VEVENT
UID:e609ac32-3a9f-11f1-8b3c-02078ce7e971
DTSTAMP:20260425T173009Z
SUMMARY:HS Softball @ CLHS
URL;VALUE=URI:https://www.centrallinn.k12.or.us/high-school/calendar/900156
 9/hs-softball-clhs
DTSTART:20260331T233000Z
DTEND:20260401T023000Z
END:VEVENT
END:VCALENDAR
