BEGIN:VCALENDAR
VERSION:2.0
PRODID:SchoolNow
CALSCALE:GREGORIAN
BEGIN:VEVENT
UID:e609aee4-3a9f-11f1-8472-02078ce7e971
DTSTAMP:20260425T173009Z
SUMMARY:JH Softball @ Mt. Angel
LOCATION:Mt. Angel school
URL;VALUE=URI:https://www.centrallinn.k12.or.us/high-school/calendar/900157
 2/jh-softball-mt-angel
DTSTART:20260511T230000Z
DTEND:20260512T010000Z
END:VEVENT
END:VCALENDAR
