BEGIN:VCALENDAR
VERSION:2.0
PRODID:SchoolNow
CALSCALE:GREGORIAN
BEGIN:VEVENT
UID:e609b1a0-3a9f-11f1-9651-02078ce7e971
DTSTAMP:20260420T094508Z
SUMMARY:HS Baseball @ CLHS
URL;VALUE=URI:https://www.centrallinn.k12.or.us/high-school/calendar/900157
 5/hs-baseball-clhs
DTSTART:20260428T233000Z
DTEND:20260429T013000Z
END:VEVENT
END:VCALENDAR
