BEGIN:VCALENDAR
VERSION:2.0
PRODID:SchoolNow
CALSCALE:GREGORIAN
BEGIN:VEVENT
UID:e609b27c-3a9f-11f1-8d20-02078ce7e971
DTSTAMP:20260425T173009Z
SUMMARY:FFA AG Mechanics @ LBCC
URL;VALUE=URI:https://www.centrallinn.k12.or.us/high-school/calendar/900157
 6/ffa-ag-mechanics-lbcc
DTSTART:20260312T150000Z
DTEND:20260312T220000Z
END:VEVENT
END:VCALENDAR
