BEGIN:VCALENDAR
VERSION:2.0
PRODID:SchoolNow
CALSCALE:GREGORIAN
BEGIN:VEVENT
UID:e609b358-3a9f-11f1-b6ce-02078ce7e971
DTSTAMP:20260425T173009Z
SUMMARY:HS Softball (DH) @ Santiam HS
LOCATION:Santiam High School\, 265 SW Evergreen St\, Mill City\, OR 97360\,
  USA
URL;VALUE=URI:https://www.centrallinn.k12.or.us/high-school/calendar/900157
 7/hs-softball-dh-santiam-hs
DTSTART:20260501T210000Z
DTEND:20260502T013000Z
END:VEVENT
END:VCALENDAR
