BEGIN:VCALENDAR
VERSION:2.0
PRODID:SchoolNow
CALSCALE:GREGORIAN
BEGIN:VEVENT
UID:e609b51a-3a9f-11f1-9e3f-02078ce7e971
DTSTAMP:20260420T094508Z
SUMMARY:JH Boys Basketball vs NW Christian
URL;VALUE=URI:https://www.centrallinn.k12.or.us/high-school/calendar/900157
 9/jh-boys-basketball-vs-nw-christian
DTSTART:20260210T003000Z
DTEND:20260210T033000Z
END:VEVENT
END:VCALENDAR
