BEGIN:VCALENDAR
VERSION:2.0
PRODID:SchoolNow
CALSCALE:GREGORIAN
BEGIN:VEVENT
UID:e609b5f6-3a9f-11f1-acf7-02078ce7e971
DTSTAMP:20260420T094508Z
SUMMARY:HS Track @ Elmira
LOCATION:Elmira High School\, 24936 Fir Grove Ln\, Elmira\, OR 97437\, USA
URL;VALUE=URI:https://www.centrallinn.k12.or.us/high-school/calendar/900158
 0/hs-track-elmira
DTSTART:20260403T200000Z
DTEND:20260403T220000Z
END:VEVENT
END:VCALENDAR
