BEGIN:VCALENDAR
VERSION:2.0
PRODID:SchoolNow
CALSCALE:GREGORIAN
BEGIN:VEVENT
UID:e609b7ae-3a9f-11f1-aadb-02078ce7e971
DTSTAMP:20260425T173009Z
SUMMARY:HS Baseball (DH) @ Mohawk HS
LOCATION:Mohawk High School\, 38300 Wendling Rd\, Marcola\, OR 97454\, USA
URL;VALUE=URI:https://www.centrallinn.k12.or.us/high-school/calendar/900158
 2/hs-baseball-dh-mohawk-hs
DTSTART:20260515T210000Z
DTEND:20260516T013000Z
END:VEVENT
END:VCALENDAR
