BEGIN:VCALENDAR
VERSION:2.0
PRODID:SchoolNow
CALSCALE:GREGORIAN
BEGIN:VEVENT
UID:e609b89e-3a9f-11f1-885d-02078ce7e971
DTSTAMP:20260420T094508Z
SUMMARY:JH Boys Basketball vs Ohara
URL;VALUE=URI:https://www.centrallinn.k12.or.us/high-school/calendar/900158
 3/jh-boys-basketball-vs-ohara
DTSTART:20260205T003000Z
DTEND:20260205T033000Z
END:VEVENT
END:VCALENDAR
