BEGIN:VCALENDAR
VERSION:2.0
PRODID:SchoolNow
CALSCALE:GREGORIAN
BEGIN:VEVENT
UID:e609b97a-3a9f-11f1-847d-02078ce7e971
DTSTAMP:20260420T094508Z
SUMMARY:JH Track @ Oaklea Middle School
URL;VALUE=URI:https://www.centrallinn.k12.or.us/high-school/calendar/900158
 4/jh-track-oaklea-middle-school
DTSTART:20260408T220000Z
DTEND:20260409T013000Z
END:VEVENT
END:VCALENDAR
