BEGIN:VCALENDAR
VERSION:2.0
PRODID:SchoolNow
CALSCALE:GREGORIAN
BEGIN:VEVENT
UID:e609ba56-3a9f-11f1-80a8-02078ce7e971
DTSTAMP:20260420T094508Z
SUMMARY:HS Baseball (DH) @ CLHS
URL;VALUE=URI:https://www.centrallinn.k12.or.us/high-school/calendar/900158
 5/hs-baseball-dh-clhs
DTSTART:20260410T210000Z
DTEND:20260411T013000Z
END:VEVENT
END:VCALENDAR
