BEGIN:VCALENDAR
VERSION:2.0
PRODID:SchoolNow
CALSCALE:GREGORIAN
BEGIN:VEVENT
UID:e609bb32-3a9f-11f1-b880-02078ce7e971
DTSTAMP:20260420T094508Z
SUMMARY:April Board Mtg
LOCATION:CLES Conference Rm/Zoom
URL;VALUE=URI:https://www.centrallinn.k12.or.us/high-school/calendar/900158
 6/april-board-mtg
DTSTART:20260407T013000Z
DTEND:20260407T033000Z
END:VEVENT
END:VCALENDAR
