BEGIN:VCALENDAR
VERSION:2.0
PRODID:SchoolNow
CALSCALE:GREGORIAN
BEGIN:VEVENT
UID:e609bc22-3a9f-11f1-a2d0-02078ce7e971
DTSTAMP:20260425T173009Z
SUMMARY:HS Track @ Gilchrist HS
LOCATION:Gilchrist Junior/Senior High\, 201 Mountain View Dr\, Gilchrist\, 
 OR 97737\, USA
URL;VALUE=URI:https://www.centrallinn.k12.or.us/high-school/calendar/900158
 7/hs-track-gilchrist-hs
DTSTART:20260516T180000Z
DTEND:20260516T230000Z
END:VEVENT
END:VCALENDAR
