BEGIN:VCALENDAR
VERSION:2.0
PRODID:SchoolNow
CALSCALE:GREGORIAN
BEGIN:VEVENT
UID:e609bcfe-3a9f-11f1-8222-02078ce7e971
DTSTAMP:20260425T173009Z
SUMMARY:HS Baseball @ CLHS
URL;VALUE=URI:https://www.centrallinn.k12.or.us/high-school/calendar/900158
 8/hs-baseball-clhs
DTSTART:20260316T233000Z
DTEND:20260317T013000Z
END:VEVENT
END:VCALENDAR
