BEGIN:VCALENDAR
VERSION:2.0
PRODID:SchoolNow
CALSCALE:GREGORIAN
BEGIN:VEVENT
UID:e609bf92-3a9f-11f1-bc4c-02078ce7e971
DTSTAMP:20260425T173009Z
SUMMARY:HS Baseball @ Crosshill Christian
LOCATION:Crosshill Christian School\, 2707 Maranatha Ct SE\, Turner\, OR 97
 392\, USA
URL;VALUE=URI:https://www.centrallinn.k12.or.us/high-school/calendar/900159
 1/hs-baseball-crosshill-christian
DTSTART:20260505T233000Z
DTEND:20260506T013000Z
END:VEVENT
END:VCALENDAR
