BEGIN:VCALENDAR
VERSION:2.0
PRODID:SchoolNow
CALSCALE:GREGORIAN
BEGIN:VEVENT
UID:e609c06e-3a9f-11f1-a49c-02078ce7e971
DTSTAMP:20260425T173009Z
SUMMARY:HS Softball @ CLHS
URL;VALUE=URI:https://www.centrallinn.k12.or.us/high-school/calendar/900159
 2/hs-softball-clhs
DTSTART:20260328T210000Z
DTEND:20260328T230000Z
END:VEVENT
END:VCALENDAR
