BEGIN:VCALENDAR
VERSION:2.0
PRODID:SchoolNow
CALSCALE:GREGORIAN
BEGIN:VEVENT
UID:e609c140-3a9f-11f1-9670-02078ce7e971
DTSTAMP:20260425T173009Z
SUMMARY:HS Baseball @ CLHS
URL;VALUE=URI:https://www.centrallinn.k12.or.us/high-school/calendar/900159
 3/hs-baseball-clhs
DTSTART:20260512T233000Z
DTEND:20260513T013000Z
END:VEVENT
END:VCALENDAR
