BEGIN:VCALENDAR
VERSION:2.0
PRODID:SchoolNow
CALSCALE:GREGORIAN
BEGIN:VEVENT
UID:e609c21c-3a9f-11f1-bc13-02078ce7e971
DTSTAMP:20260425T173009Z
SUMMARY:HS Wrestling Awards Night
URL;VALUE=URI:https://www.centrallinn.k12.or.us/high-school/calendar/900159
 4/hs-wrestling-awards-night
DTSTART:20260318T010000Z
DTEND:20260318T020000Z
END:VEVENT
END:VCALENDAR
