BEGIN:VCALENDAR
VERSION:2.0
PRODID:SchoolNow
CALSCALE:GREGORIAN
BEGIN:VEVENT
UID:e609c2ee-3a9f-11f1-97f2-02078ce7e971
DTSTAMP:20260420T094508Z
SUMMARY:HS Softball @ CL
URL;VALUE=URI:https://www.centrallinn.k12.or.us/high-school/calendar/900159
 5/hs-softball-cl
DTSTART:20260414T233000Z
DTEND:20260415T013000Z
END:VEVENT
END:VCALENDAR
