BEGIN:VCALENDAR
VERSION:2.0
PRODID:SchoolNow
CALSCALE:GREGORIAN
BEGIN:VEVENT
UID:e609c4ba-3a9f-11f1-8967-02078ce7e971
DTSTAMP:20260425T173009Z
SUMMARY:HS Baseball @ Taft HS
LOCATION:Taft High School\, 3780 SE Spy Glass Ridge Dr\, Lincoln City\, OR 
 97367\, USA
URL;VALUE=URI:https://www.centrallinn.k12.or.us/high-school/calendar/900159
 7/hs-baseball-taft-hs
DTSTART;VALUE=DATE:20260326
DTEND;VALUE=DATE:20260329
END:VEVENT
END:VCALENDAR
