BEGIN:VCALENDAR
VERSION:2.0
PRODID:SchoolNow
CALSCALE:GREGORIAN
BEGIN:VEVENT
UID:e609c5c8-3a9f-11f1-8541-02078ce7e971
DTSTAMP:20260425T173009Z
SUMMARY:HS Softball @ Mohawk HS
URL;VALUE=URI:https://www.centrallinn.k12.or.us/high-school/calendar/900159
 8/hs-softball-mohawk-hs
DTSTART:20260512T233000Z
DTEND:20260513T013000Z
END:VEVENT
END:VCALENDAR
