BEGIN:VCALENDAR
VERSION:2.0
PRODID:SchoolNow
CALSCALE:GREGORIAN
BEGIN:VEVENT
UID:e609c6cc-3a9f-11f1-8e63-02078ce7e971
DTSTAMP:20260420T094509Z
SUMMARY:JH Softball @ CLHS
URL;VALUE=URI:https://www.centrallinn.k12.or.us/high-school/calendar/900159
 9/jh-softball-clhs
DTSTART:20260406T230000Z
DTEND:20260407T010000Z
END:VEVENT
END:VCALENDAR
