BEGIN:VCALENDAR
VERSION:2.0
PRODID:SchoolNow
CALSCALE:GREGORIAN
BEGIN:VEVENT
UID:e609c7bc-3a9f-11f1-87dd-02078ce7e971
DTSTAMP:20260420T094509Z
SUMMARY:HS Baseball @ Regis HS
URL;VALUE=URI:https://www.centrallinn.k12.or.us/high-school/calendar/900160
 0/hs-baseball-regis-hs
DTSTART:20260407T233000Z
DTEND:20260408T013000Z
END:VEVENT
END:VCALENDAR
