BEGIN:VCALENDAR
VERSION:2.0
PRODID:SchoolNow
CALSCALE:GREGORIAN
BEGIN:VEVENT
UID:e609c8ac-3a9f-11f1-a276-02078ce7e971
DTSTAMP:20260425T173009Z
SUMMARY:HS Softball (DH) @ Gervais HS
URL;VALUE=URI:https://www.centrallinn.k12.or.us/high-school/calendar/900160
 1/hs-softball-dh-gervais-hs
DTSTART:20260508T210000Z
DTEND:20260509T013000Z
END:VEVENT
END:VCALENDAR
