BEGIN:VCALENDAR
VERSION:2.0
PRODID:SchoolNow
CALSCALE:GREGORIAN
BEGIN:VEVENT
UID:e609c97e-3a9f-11f1-a54b-02078ce7e971
DTSTAMP:20260425T173009Z
SUMMARY:HS Track @ Harrisburg HS Twilight
URL;VALUE=URI:https://www.centrallinn.k12.or.us/high-school/calendar/900160
 2/hs-track-harrisburg-hs-twilight
DTSTART:20260501T220000Z
DTEND:20260502T020000Z
END:VEVENT
END:VCALENDAR
