BEGIN:VCALENDAR
VERSION:2.0
PRODID:SchoolNow
CALSCALE:GREGORIAN
BEGIN:VEVENT
UID:e609ca5a-3a9f-11f1-a6e3-02078ce7e971
DTSTAMP:20260425T173009Z
SUMMARY:JH Baseball @ CLHS
URL;VALUE=URI:https://www.centrallinn.k12.or.us/high-school/calendar/900160
 3/jh-baseball-clhs
DTSTART:20260507T230000Z
DTEND:20260508T010000Z
END:VEVENT
END:VCALENDAR
