BEGIN:VCALENDAR
VERSION:2.0
PRODID:SchoolNow
CALSCALE:GREGORIAN
BEGIN:VEVENT
UID:e609cb36-3a9f-11f1-92b4-02078ce7e971
DTSTAMP:20260425T173009Z
SUMMARY:JH Track @ Elmira
URL;VALUE=URI:https://www.centrallinn.k12.or.us/high-school/calendar/900160
 4/jh-track-elmira
DTSTART:20260506T193000Z
DTEND:20260506T223000Z
END:VEVENT
END:VCALENDAR
